BEGIN:VCALENDAR
VERSION:2.0
PRODID:-//Tukios.com/
BEGIN:VEVENT
UID:5849eb99-7dac-48e4-966f-a8ff3ab24a1a@www.lawjonesfuneralhome.com
DTSTAMP:20260421T183504Z
DTSTART:20260424T160000Z
DTEND:20260424T170000Z
SUMMARY:Funeral Service
DESCRIPTION:
URL:https://www.lawjonesfuneralhome.com/obituaries/susan-welch
LOCATION: 111 S Main St  Preston IA 52069
GEO:42.0487602;-90.3942277
END:VEVENT
END:VCALENDAR