BEGIN:VCALENDAR
VERSION:2.0
PRODID:-//Tukios.com/
BEGIN:VEVENT
UID:e6915963-0655-4513-b02f-4ad456ec7b2d@www.lawjonesfuneralhome.com
DTSTAMP:20260421T183846Z
DTSTART:20260423T210000Z
DTEND:20260424T000000Z
SUMMARY:Visitation
DESCRIPTION:
URL:https://www.lawjonesfuneralhome.com/obituaries/susan-welch
LOCATION: 111 S Main St  Preston IA 52069
GEO:42.0487602;-90.3942277
END:VEVENT
END:VCALENDAR