BEGIN:VCALENDAR
VERSION:2.0
PRODID:-//Tukios.com/
BEGIN:VEVENT
UID:16c5acb1-bf86-4303-8d44-508e35cf0b59@www.lawjonesfuneralhome.com
DTSTAMP:20260421T092010Z
DTSTART:20260627T160000Z
DTEND:20260627T180000Z
SUMMARY:Celebration of Life Gathering
DESCRIPTION:
URL:https://www.lawjonesfuneralhome.com/obituaries/doris-gee
LOCATION:Schapville Zion Presbyterian Church 635 E. Schapville Road  
	Elizabeth IL 61028
GEO:42.3971809;-90.2057785
END:VEVENT
END:VCALENDAR