BEGIN:VCALENDAR
VERSION:2.0
PRODID:-//Tukios.com/
BEGIN:VEVENT
UID:5900499d-d618-4aec-a8e4-75a98f1a8b2c@www.lawjonesfuneralhome.com
DTSTAMP:20260421T092210Z
DTSTART:20260627T180000Z
DTEND:20260627T190000Z
SUMMARY:Celebration of Life Service
DESCRIPTION:
URL:https://www.lawjonesfuneralhome.com/obituaries/doris-gee
LOCATION:Schapville Zion Presbyterian Church 635 E. Schapville Road  
	Elizabeth IL 61028
GEO:42.3971809;-90.2057785
END:VEVENT
END:VCALENDAR