BEGIN:VCALENDAR
VERSION:2.0
PRODID:-//Tukios.com/
BEGIN:VEVENT
UID:94698dbd-2376-4e23-9726-352fa16a1064@www.lawjonesfuneralhome.com
DTSTAMP:20260426T031154Z
DTSTART:20260503T210000Z
DTEND:20260504T000000Z
SUMMARY:Celebration of Life
DESCRIPTION:
URL:https://www.lawjonesfuneralhome.com/obituaries/cheryl-temple
LOCATION:Manny’s Too 305 11th Avenue  Fulton IL 61252
GEO:41.8665295;-90.1663499
END:VEVENT
END:VCALENDAR